BEGIN:VCALENDAR
VERSION:2.0
PRODID:-//wp-events-plugin.com//7.2.3.1//EN
BEGIN:VEVENT
UID:25@imkerverein-darmstadt.de
DTSTART:20231106T193000Z
DTEND:20231106T210000Z
DTSTAMP:20231024T162939Z
URL:https://imkerverein-darmstadt.de/veranstaltungen/imkertreff-8/
SUMMARY:Imkertreff
DESCRIPTION:Unser monatlicher Imkertreff für Mitglieder und Interessierte 
 Leute.
CATEGORIES:Imkertreff
LOCATION:Georg-August-Zinn-Haus\, Georg-Schüler-Platz 6-8\, Griesheim\, 64
 347\, Deutschland
GEO:49.861022;8.562356
X-APPLE-STRUCTURED-LOCATION;VALUE=URI;X-ADDRESS=Georg-Schüler-Platz 6-8\, 
 Griesheim\, 64347\, Deutschland;X-APPLE-RADIUS=100;X-TITLE=Georg-August-Zi
 nn-Haus:geo:49.861022,8.562356
END:VEVENT
END:VCALENDAR